Package: MMUPHin Version: 1.23.0 Command: /home/biocbuild/bbs-3.22-bioc/R/bin/R CMD build --keep-empty-dirs --no-resave-data --md5 MMUPHin StartedAt: 2025-10-23 18:49:23 -0400 (Thu, 23 Oct 2025) EndedAt: 2025-10-23 18:50:21 -0400 (Thu, 23 Oct 2025) EllapsedTime: 58.0 seconds RetCode: 0 Status: OK PackageFile: MMUPHin_1.23.0.tar.gz PackageFileSize: 3.691 MiB