Package: MLSeq Version: 2.27.0 Maintainer: Gokmen Zararsiz MaintainerEmail: gokmenzararsiz at hotmail.com git_url: https://git.bioconductor.org/packages/MLSeq git_branch: devel git_last_commit: 8da57f6 git_last_commit_date: 2025-04-15 10:29:29 -0400 (Tue, 15 Apr 2025)