Package: MLP Version: 1.57.0 Command: rm -rf MLP.buildbin-libdir && mkdir MLP.buildbin-libdir && F:\biocbuild\bbs-3.22-bioc\R\bin\R.exe CMD INSTALL --build --library=MLP.buildbin-libdir MLP_1.57.0.tar.gz StartedAt: 2025-08-15 10:43:46 -0400 (Fri, 15 Aug 2025) EndedAt: 2025-08-15 10:44:12 -0400 (Fri, 15 Aug 2025) EllapsedTime: 25.2 seconds RetCode: 0 Status: OK PackageFile: MLP_1.57.0.zip PackageFileSize: 4.193 MiB