Package: MLP Version: 1.57.0 Command: /Library/Frameworks/R.framework/Resources/bin/R CMD build --keep-empty-dirs --no-resave-data MLP StartedAt: 2025-05-22 17:27:22 -0400 (Thu, 22 May 2025) EndedAt: 2025-05-22 17:28:30 -0400 (Thu, 22 May 2025) EllapsedTime: 67.3 seconds RetCode: 0 Status: OK PackageFile: MLP_1.57.0.tar.gz PackageFileSize: 4.285 MiB