Package: MLInterfaces Version: 1.89.0 Command: /Library/Frameworks/R.framework/Resources/bin/R CMD build --keep-empty-dirs --no-resave-data MLInterfaces StartedAt: 2025-05-18 16:53:04 -0400 (Sun, 18 May 2025) EndedAt: 2025-05-18 16:53:36 -0400 (Sun, 18 May 2025) EllapsedTime: 32.4 seconds RetCode: 0 Status: OK PackageFile: MLInterfaces_1.89.0.tar.gz PackageFileSize: 2.806 MiB