Package: MLInterfaces Version: 1.89.0 Command: rm -rf MLInterfaces.buildbin-libdir && mkdir MLInterfaces.buildbin-libdir && /Users/biocbuild/BBS/utils/build-universal.sh MLInterfaces_1.89.0.tar.gz /Library/Frameworks/R.framework/Resources/bin/R MLInterfaces.buildbin-libdir StartedAt: 2025-05-18 22:10:14 -0400 (Sun, 18 May 2025) EndedAt: 2025-05-18 22:10:27 -0400 (Sun, 18 May 2025) EllapsedTime: 13.2 seconds RetCode: 0 Status: OK PackageFile: MLInterfaces_1.89.0.tgz PackageFileSize: 3.217 MiB