Package: MIRit Version: 1.3.0 Command: /home/biocbuild/bbs-3.21-bioc/R/bin/R CMD INSTALL MIRit StartedAt: 2025-02-03 15:55:41 -0500 (Mon, 03 Feb 2025) EndedAt: 2025-02-03 15:56:22 -0500 (Mon, 03 Feb 2025) EllapsedTime: 41.9 seconds RetCode: 0 Status: OK