Package: MIRit Version: 1.3.0 Command: /home/biocbuild/bbs-3.21-bioc/R/bin/R CMD build --keep-empty-dirs --no-resave-data MIRit StartedAt: 2025-02-03 18:18:23 -0500 (Mon, 03 Feb 2025) EndedAt: 2025-02-03 18:19:37 -0500 (Mon, 03 Feb 2025) EllapsedTime: 74.1 seconds RetCode: 0 Status: OK PackageFile: MIRit_1.3.0.tar.gz PackageFileSize: 2.607 MiB