Package: MIRit Version: 1.3.0 Command: /Library/Frameworks/R.framework/Resources/bin/R CMD INSTALL MIRit StartedAt: 2025-02-09 15:43:39 -0500 (Sun, 09 Feb 2025) EndedAt: 2025-02-09 15:44:33 -0500 (Sun, 09 Feb 2025) EllapsedTime: 54.5 seconds RetCode: 0 Status: OK