Package: MIRit Version: 1.3.0 Command: /Library/Frameworks/R.framework/Resources/bin/R CMD check --install=check:MIRit.install-out.txt --library=/Library/Frameworks/R.framework/Resources/library --no-vignettes --timings MIRit_1.3.0.tar.gz StartedAt: 2025-02-03 21:43:56 -0500 (Mon, 03 Feb 2025) EndedAt: 2025-02-03 21:48:22 -0500 (Mon, 03 Feb 2025) EllapsedTime: 266.0 seconds RetCode: 0 Status: OK CheckDir: MIRit.Rcheck Warnings: 0