Package: MIRit Version: 1.3.0 Command: /Library/Frameworks/R.framework/Resources/bin/R CMD build --keep-empty-dirs --no-resave-data MIRit StartedAt: 2025-02-03 17:27:22 -0500 (Mon, 03 Feb 2025) EndedAt: 2025-02-03 17:28:44 -0500 (Mon, 03 Feb 2025) EllapsedTime: 82.2 seconds RetCode: 0 Status: OK PackageFile: MIRit_1.3.0.tar.gz PackageFileSize: 2.695 MiB