Package: MIRit Version: 1.3.0 Command: /home/biocbuild/R/R/bin/R CMD INSTALL MIRit StartedAt: 2025-01-29 20:33:41 -0000 (Wed, 29 Jan 2025) EndedAt: 2025-01-29 20:34:41 -0000 (Wed, 29 Jan 2025) EllapsedTime: 60.0 seconds RetCode: 0 Status: OK