Package: MIRA Version: 1.31.0 Command: chmod a+r MIRA -R && F:\biocbuild\bbs-3.22-bioc\R\bin\R.exe CMD build --keep-empty-dirs --no-resave-data MIRA StartedAt: 2025-08-14 21:30:31 -0400 (Thu, 14 Aug 2025) EndedAt: 2025-08-14 21:31:52 -0400 (Thu, 14 Aug 2025) EllapsedTime: 80.8 seconds RetCode: 0 Status: OK PackageFile: MIRA_1.31.0.tar.gz PackageFileSize: 1.749 MiB