Package: MIRA Version: 1.31.0 Command: /home/biocbuild/bbs-3.22-bioc/R/bin/R CMD INSTALL MIRA StartedAt: 2025-10-16 16:33:47 -0400 (Thu, 16 Oct 2025) EndedAt: 2025-10-16 16:34:28 -0400 (Thu, 16 Oct 2025) EllapsedTime: 41.6 seconds RetCode: 0 Status: OK