Package: MIRA Version: 1.31.0 Command: /home/biocbuild/bbs-3.22-bioc/R/bin/R CMD build --keep-empty-dirs --no-resave-data --md5 MIRA StartedAt: 2025-10-17 18:39:23 -0400 (Fri, 17 Oct 2025) EndedAt: 2025-10-17 18:40:28 -0400 (Fri, 17 Oct 2025) EllapsedTime: 65.0 seconds RetCode: 0 Status: OK PackageFile: MIRA_1.31.0.tar.gz PackageFileSize: 2.506 MiB