Package: MICSQTL Version: 1.5.0 Command: /Library/Frameworks/R.framework/Resources/bin/R CMD build --keep-empty-dirs --no-resave-data MICSQTL StartedAt: 2025-02-05 17:22:00 -0500 (Wed, 05 Feb 2025) EndedAt: 2025-02-05 17:22:57 -0500 (Wed, 05 Feb 2025) EllapsedTime: 57.2 seconds RetCode: 0 Status: OK PackageFile: MICSQTL_1.5.0.tar.gz PackageFileSize: 3.085 MiB