Package: MGnifyR Version: 1.5.0 Command: /home/biocbuild/bbs-3.22-bioc/R/bin/R CMD INSTALL MGnifyR StartedAt: 2025-10-12 15:56:59 -0400 (Sun, 12 Oct 2025) EndedAt: 2025-10-12 15:57:39 -0400 (Sun, 12 Oct 2025) EllapsedTime: 39.3 seconds RetCode: 0 Status: OK