Package: MGnifyR Version: 1.5.0 Command: /home/biocbuild/bbs-3.22-bioc/R/bin/R CMD build --keep-empty-dirs --no-resave-data --md5 MGnifyR StartedAt: 2025-10-12 18:36:40 -0400 (Sun, 12 Oct 2025) EndedAt: 2025-10-12 18:37:53 -0400 (Sun, 12 Oct 2025) EllapsedTime: 73.1 seconds RetCode: 0 Status: OK PackageFile: MGnifyR_1.5.0.tar.gz PackageFileSize: 4.325 MiB