Package: MGnifyR Version: 1.3.0 Command: rm -rf MGnifyR.buildbin-libdir && mkdir MGnifyR.buildbin-libdir && /Users/biocbuild/BBS/utils/build-universal.sh MGnifyR_1.3.0.tar.gz /Library/Frameworks/R.framework/Resources/bin/R MGnifyR.buildbin-libdir StartedAt: 2025-02-17 00:29:45 -0500 (Mon, 17 Feb 2025) EndedAt: 2025-02-17 00:30:43 -0500 (Mon, 17 Feb 2025) EllapsedTime: 57.6 seconds RetCode: 0 Status: OK PackageFile: MGnifyR_1.3.0.tgz PackageFileSize: 4.386 MiB