Package: MGFR Version: 1.35.0 Command: /home/biocbuild/R/R/bin/R CMD build --keep-empty-dirs --no-resave-data MGFR StartedAt: 2025-10-17 02:39:06 -0000 (Fri, 17 Oct 2025) EndedAt: 2025-10-17 02:39:38 -0000 (Fri, 17 Oct 2025) EllapsedTime: 32.0 seconds RetCode: 1 Status: ERROR PackageFile: None PackageFileSize: NA