Package: MGFR Version: 1.35.0 Maintainer: Khadija El Amrani MaintainerEmail: a.khadija at gmx.de git_url: https://git.bioconductor.org/packages/MGFR git_branch: devel git_last_commit: 6b691b5 git_last_commit_date: 2025-04-15 11:03:19 -0400 (Tue, 15 Apr 2025)