Package: MGFM Version: 1.43.0 Command: /home/biocbuild/bbs-3.22-bioc/R/bin/R CMD INSTALL MGFM StartedAt: 2025-10-13 15:31:26 -0400 (Mon, 13 Oct 2025) EndedAt: 2025-10-13 15:31:38 -0400 (Mon, 13 Oct 2025) EllapsedTime: 12.0 seconds RetCode: 0 Status: OK