Package: MEIGOR Version: 1.43.0 Command: chmod a+r MEIGOR -R && F:\biocbuild\bbs-3.22-bioc\R\bin\R.exe CMD build --keep-empty-dirs --no-resave-data MEIGOR StartedAt: 2025-08-14 21:17:51 -0400 (Thu, 14 Aug 2025) EndedAt: 2025-08-14 21:19:27 -0400 (Thu, 14 Aug 2025) EllapsedTime: 95.2 seconds RetCode: 0 Status: OK PackageFile: MEIGOR_1.43.0.tar.gz PackageFileSize: 576.8 KiB