Package: MEIGOR Version: 1.43.0 Command: /home/biocbuild/bbs-3.22-bioc/R/bin/R CMD INSTALL MEIGOR StartedAt: 2025-10-15 15:38:11 -0400 (Wed, 15 Oct 2025) EndedAt: 2025-10-15 15:38:22 -0400 (Wed, 15 Oct 2025) EllapsedTime: 10.9 seconds RetCode: 0 Status: OK