Package: MEIGOR Version: 1.41.0 Command: /home/biocbuild/bbs-3.21-bioc/R/bin/R CMD build --keep-empty-dirs --no-resave-data MEIGOR StartedAt: 2025-02-03 18:08:30 -0500 (Mon, 03 Feb 2025) EndedAt: 2025-02-03 18:09:14 -0500 (Mon, 03 Feb 2025) EllapsedTime: 44.0 seconds RetCode: 0 Status: OK PackageFile: MEIGOR_1.41.0.tar.gz PackageFileSize: 1.574 MiB