Package: MEIGOR Version: 1.43.0 Command: /Library/Frameworks/R.framework/Resources/bin/R CMD INSTALL MEIGOR StartedAt: 2025-05-02 15:32:02 -0400 (Fri, 02 May 2025) EndedAt: 2025-05-02 15:32:16 -0400 (Fri, 02 May 2025) EllapsedTime: 14.1 seconds RetCode: 0 Status: OK