Package: MEIGOR Version: 1.43.0 Command: /Library/Frameworks/R.framework/Resources/bin/R CMD INSTALL MEIGOR StartedAt: 2025-05-06 15:10:17 -0400 (Tue, 06 May 2025) EndedAt: 2025-05-06 15:10:22 -0400 (Tue, 06 May 2025) EllapsedTime: 5.0 seconds RetCode: 0 Status: OK