Package: MEIGOR Version: 1.43.0 Command: /Library/Frameworks/R.framework/Resources/bin/R CMD check --install=check:MEIGOR.install-out.txt --library=/Library/Frameworks/R.framework/Resources/library --no-vignettes --timings MEIGOR_1.43.0.tar.gz StartedAt: 2025-05-07 20:24:15 -0400 (Wed, 07 May 2025) EndedAt: 2025-05-07 20:25:01 -0400 (Wed, 07 May 2025) EllapsedTime: 45.5 seconds RetCode: 0 Status: OK CheckDir: MEIGOR.Rcheck Warnings: 0