Package: MEIGOR Version: 1.43.0 Command: /Library/Frameworks/R.framework/Resources/bin/R CMD build --keep-empty-dirs --no-resave-data MEIGOR StartedAt: 2025-05-07 16:52:47 -0400 (Wed, 07 May 2025) EndedAt: 2025-05-07 16:53:12 -0400 (Wed, 07 May 2025) EllapsedTime: 24.3 seconds RetCode: 0 Status: OK PackageFile: MEIGOR_1.43.0.tar.gz PackageFileSize: 1.766 MiB