Package: MEDME Version: 1.69.0 Command: /home/biocbuild/R/R/bin/R CMD build --keep-empty-dirs --no-resave-data MEDME StartedAt: 2025-09-30 01:10:02 -0000 (Tue, 30 Sep 2025) EndedAt: 2025-09-30 01:10:27 -0000 (Tue, 30 Sep 2025) EllapsedTime: 25.0 seconds RetCode: 1 Status: ERROR PackageFile: None PackageFileSize: NA