Package: MEDME Version: 1.67.0 Command: rm -rf MEDME.buildbin-libdir && mkdir MEDME.buildbin-libdir && /Users/biocbuild/BBS/utils/build-universal.sh MEDME_1.67.0.tar.gz /Library/Frameworks/R.framework/Resources/bin/R MEDME.buildbin-libdir StartedAt: 2025-01-11 00:32:42 -0500 (Sat, 11 Jan 2025) EndedAt: 2025-01-11 00:33:06 -0500 (Sat, 11 Jan 2025) EllapsedTime: 24.1 seconds RetCode: 0 Status: OK PackageFile: MEDME_1.67.0.tgz PackageFileSize: 652.7 KiB