Package: MEDIPS Version: 1.61.0 Command: chmod a+r MEDIPS -R && F:\biocbuild\bbs-3.22-bioc\R\bin\R.exe CMD build --keep-empty-dirs --no-resave-data MEDIPS StartedAt: 2025-08-14 21:17:27 -0400 (Thu, 14 Aug 2025) EndedAt: 2025-08-14 21:20:02 -0400 (Thu, 14 Aug 2025) EllapsedTime: 154.9 seconds RetCode: 0 Status: OK PackageFile: MEDIPS_1.61.0.tar.gz PackageFileSize: 322.1 KiB