Package: MEDIPS Version: 1.59.0 Command: /home/biocbuild/R/R/bin/R CMD INSTALL MEDIPS StartedAt: 2025-01-29 20:02:09 -0000 (Wed, 29 Jan 2025) EndedAt: 2025-01-29 20:03:05 -0000 (Wed, 29 Jan 2025) EllapsedTime: 55.6 seconds RetCode: 0 Status: OK