Package: MEDIPS Version: 1.59.0 Command: /Library/Frameworks/R.framework/Resources/bin/R CMD check --install=check:MEDIPS.install-out.txt --library=/Library/Frameworks/R.framework/Resources/library --no-vignettes --timings MEDIPS_1.59.0.tar.gz StartedAt: 2025-02-05 20:03:57 -0500 (Wed, 05 Feb 2025) EndedAt: 2025-02-05 20:06:16 -0500 (Wed, 05 Feb 2025) EllapsedTime: 138.7 seconds RetCode: 0 Status: OK CheckDir: MEDIPS.Rcheck Warnings: 0