Package: MEDIPS Version: 1.59.0 Command: /Library/Frameworks/R.framework/Resources/bin/R CMD build --keep-empty-dirs --no-resave-data MEDIPS StartedAt: 2025-02-03 17:26:41 -0500 (Mon, 03 Feb 2025) EndedAt: 2025-02-03 17:27:31 -0500 (Mon, 03 Feb 2025) EllapsedTime: 50.6 seconds RetCode: 0 Status: OK PackageFile: MEDIPS_1.59.0.tar.gz PackageFileSize: 322.8 KiB