Package: MEDIPS Version: 1.59.0 Command: rm -rf MEDIPS.buildbin-libdir && mkdir MEDIPS.buildbin-libdir && /Users/biocbuild/BBS/utils/build-universal.sh MEDIPS_1.59.0.tar.gz /Library/Frameworks/R.framework/Resources/bin/R MEDIPS.buildbin-libdir StartedAt: 2025-02-05 22:25:01 -0500 (Wed, 05 Feb 2025) EndedAt: 2025-02-05 22:25:19 -0500 (Wed, 05 Feb 2025) EllapsedTime: 17.4 seconds RetCode: 0 Status: OK PackageFile: MEDIPS_1.59.0.tgz PackageFileSize: 750.3 KiB