Package: MEB Version: 1.23.0 Command: /home/biocbuild/bbs-3.22-bioc/R/bin/R CMD INSTALL MEB StartedAt: 2025-10-03 15:54:09 -0400 (Fri, 03 Oct 2025) EndedAt: 2025-10-03 15:54:37 -0400 (Fri, 03 Oct 2025) EllapsedTime: 27.7 seconds RetCode: 0 Status: OK