Package: MEAT Version: 1.21.0 Command: /home/biocbuild/bbs-3.22-bioc/R/bin/R CMD INSTALL MEAT StartedAt: 2025-10-03 16:01:00 -0400 (Fri, 03 Oct 2025) EndedAt: 2025-10-03 16:01:46 -0400 (Fri, 03 Oct 2025) EllapsedTime: 46.5 seconds RetCode: 0 Status: OK