Package: MEAL Version: 1.37.0 Command: E:\biocbuild\bbs-3.21-bioc\R\bin\R.exe CMD INSTALL MEAL StartedAt: 2025-02-05 17:08:11 -0500 (Wed, 05 Feb 2025) EndedAt: 2025-02-05 17:09:04 -0500 (Wed, 05 Feb 2025) EllapsedTime: 53.5 seconds RetCode: 0 Status: OK