Package: MEAL Version: 1.37.0 Command: E:\biocbuild\bbs-3.21-bioc\R\bin\R.exe CMD check --no-multiarch --install=check:MEAL.install-out.txt --library=E:\biocbuild\bbs-3.21-bioc\R\library --no-vignettes --timings MEAL_1.37.0.tar.gz StartedAt: 2025-02-04 03:06:09 -0500 (Tue, 04 Feb 2025) EndedAt: 2025-02-04 03:12:54 -0500 (Tue, 04 Feb 2025) EllapsedTime: 405.3 seconds RetCode: 0 Status: WARNINGS CheckDir: MEAL.Rcheck Warnings: 2