Package: MEAL Version: 1.37.0 Command: chmod a+r MEAL -R && E:\biocbuild\bbs-3.21-bioc\R\bin\R.exe CMD build --keep-empty-dirs --no-resave-data MEAL StartedAt: 2025-02-05 19:49:06 -0500 (Wed, 05 Feb 2025) EndedAt: 2025-02-05 19:58:28 -0500 (Wed, 05 Feb 2025) EllapsedTime: 561.7 seconds RetCode: 0 Status: OK PackageFile: MEAL_1.37.0.tar.gz PackageFileSize: 1.014 MiB