Package: MEAL Version: 1.37.0 Command: rm -rf MEAL.buildbin-libdir && mkdir MEAL.buildbin-libdir && E:\biocbuild\bbs-3.21-bioc\R\bin\R.exe CMD INSTALL --build --library=MEAL.buildbin-libdir MEAL_1.37.0.tar.gz StartedAt: 2025-02-04 08:18:54 -0500 (Tue, 04 Feb 2025) EndedAt: 2025-02-04 08:19:47 -0500 (Tue, 04 Feb 2025) EllapsedTime: 53.2 seconds RetCode: 0 Status: OK PackageFile: MEAL_1.37.0.zip PackageFileSize: 1.094 MiB