Package: MEAL Version: 1.39.0 Command: /home/biocbuild/bbs-3.22-bioc/R/bin/R CMD INSTALL MEAL StartedAt: 2025-10-03 16:03:57 -0400 (Fri, 03 Oct 2025) EndedAt: 2025-10-03 16:04:38 -0400 (Fri, 03 Oct 2025) EllapsedTime: 41.1 seconds RetCode: 0 Status: OK