Package: MEAL Version: 1.37.0 Command: /Library/Frameworks/R.framework/Resources/bin/R CMD INSTALL MEAL StartedAt: 2025-02-05 15:47:45 -0500 (Wed, 05 Feb 2025) EndedAt: 2025-02-05 15:48:16 -0500 (Wed, 05 Feb 2025) EllapsedTime: 31.3 seconds RetCode: 0 Status: OK