Package: MEAL Version: 1.37.0 Command: /Library/Frameworks/R.framework/Resources/bin/R CMD check --install=check:MEAL.install-out.txt --library=/Library/Frameworks/R.framework/Resources/library --no-vignettes --timings MEAL_1.37.0.tar.gz StartedAt: 2025-02-03 21:29:58 -0500 (Mon, 03 Feb 2025) EndedAt: 2025-02-03 21:36:08 -0500 (Mon, 03 Feb 2025) EllapsedTime: 370.8 seconds RetCode: 0 Status: WARNINGS CheckDir: MEAL.Rcheck Warnings: 2