Package: MEAL Version: 1.37.0 Command: rm -rf MEAL.buildbin-libdir && mkdir MEAL.buildbin-libdir && /Users/biocbuild/BBS/utils/build-universal.sh MEAL_1.37.0.tar.gz /Library/Frameworks/R.framework/Resources/bin/R MEAL.buildbin-libdir StartedAt: 2025-02-03 22:55:52 -0500 (Mon, 03 Feb 2025) EndedAt: 2025-02-03 22:56:13 -0500 (Mon, 03 Feb 2025) EllapsedTime: 20.5 seconds RetCode: 0 Status: OK PackageFile: MEAL_1.37.0.tgz PackageFileSize: 2.178 MiB