Package: MDTS Version: 1.29.0 Command: /home/biocbuild/bbs-3.22-bioc/R/bin/R CMD INSTALL MDTS StartedAt: 2025-10-13 15:28:13 -0400 (Mon, 13 Oct 2025) EndedAt: 2025-10-13 15:28:36 -0400 (Mon, 13 Oct 2025) EllapsedTime: 23.2 seconds RetCode: 0 Status: OK