Package: MDTS Version: 1.29.0 Command: /home/biocbuild/bbs-3.22-bioc/R/bin/R CMD build --keep-empty-dirs --no-resave-data --md5 MDTS StartedAt: 2025-10-13 18:32:16 -0400 (Mon, 13 Oct 2025) EndedAt: 2025-10-13 18:32:52 -0400 (Mon, 13 Oct 2025) EllapsedTime: 36.0 seconds RetCode: 0 Status: OK PackageFile: MDTS_1.29.0.tar.gz PackageFileSize: 32.97 KiB