Package: MDTS Version: 1.27.0 Command: /home/biocbuild/bbs-3.21-bioc/R/bin/R CMD build --keep-empty-dirs --no-resave-data MDTS StartedAt: 2025-02-16 17:55:04 -0500 (Sun, 16 Feb 2025) EndedAt: 2025-02-16 17:55:41 -0500 (Sun, 16 Feb 2025) EllapsedTime: 37.0 seconds RetCode: 0 Status: OK PackageFile: MDTS_1.27.0.tar.gz PackageFileSize: 31.55 KiB