Package: MDTS Version: 1.27.0 Command: /Library/Frameworks/R.framework/Resources/bin/R CMD INSTALL MDTS StartedAt: 2025-02-16 15:16:30 -0500 (Sun, 16 Feb 2025) EndedAt: 2025-02-16 15:17:02 -0500 (Sun, 16 Feb 2025) EllapsedTime: 31.2 seconds RetCode: 0 Status: OK